BEGIN:VCALENDAR
VERSION:2.0
PRODID:-//Destiny School of the Arts - ECPv6.6.4.2//NONSGML v1.0//EN
CALSCALE:GREGORIAN
METHOD:PUBLISH
X-WR-CALNAME:Destiny School of the Arts
X-ORIGINAL-URL:https://destinyschoolofthearts.com
X-WR-CALDESC:Events for Destiny School of the Arts
REFRESH-INTERVAL;VALUE=DURATION:PT1H
X-Robots-Tag:noindex
X-PUBLISHED-TTL:PT1H
BEGIN:VTIMEZONE
TZID:UTC
BEGIN:STANDARD
TZOFFSETFROM:+0000
TZOFFSETTO:+0000
TZNAME:UTC
DTSTART:20190101T000000
END:STANDARD
END:VTIMEZONE
BEGIN:VEVENT
DTSTART;VALUE=DATE:20200417
DTEND;VALUE=DATE:20200501
DTSTAMP:20260425T140401
CREATED:20191209T181130Z
LAST-MODIFIED:20200706T041017Z
UID:2073-1587081600-1588291199@destinyschoolofthearts.com
SUMMARY:Spirit Store Open
DESCRIPTION:
URL:https://destinyschoolofthearts.com/calendar/spirit-store-open-2/
END:VEVENT
BEGIN:VEVENT
DTSTART;VALUE=DATE:20200413
DTEND;VALUE=DATE:20200418
DTSTAMP:20260425T140401
CREATED:20191209T181027Z
LAST-MODIFIED:20200706T041717Z
UID:2068-1586736000-1587167999@destinyschoolofthearts.com
SUMMARY:Week of the Young Child
DESCRIPTION:
URL:https://destinyschoolofthearts.com/calendar/week-of-the-young-child-2/
END:VEVENT
BEGIN:VEVENT
DTSTART;VALUE=DATE:20200406
DTEND;VALUE=DATE:20200411
DTSTAMP:20260425T140401
CREATED:20191209T180951Z
LAST-MODIFIED:20200706T041219Z
UID:2061-1586131200-1586563199@destinyschoolofthearts.com
SUMMARY:NO SCHOOL (Spring Break)
DESCRIPTION:
URL:https://destinyschoolofthearts.com/calendar/no-school-spring-break-2/
END:VEVENT
BEGIN:VEVENT
DTSTART;TZID=UTC:20200328T100000
DTEND;TZID=UTC:20200328T120000
DTSTAMP:20260425T140401
CREATED:20191209T180907Z
LAST-MODIFIED:20200706T041818Z
UID:2064-1585389600-1585396800@destinyschoolofthearts.com
SUMMARY:School-wide Easter Egg Hunt/Festivities
DESCRIPTION:
URL:https://destinyschoolofthearts.com/calendar/school-wide-easter-egg-hunt-festivities/
END:VEVENT
BEGIN:VEVENT
DTSTART;VALUE=DATE:20200327
DTEND;VALUE=DATE:20200328
DTSTAMP:20260425T140401
CREATED:20191209T180746Z
LAST-MODIFIED:20200706T043153Z
UID:2062-1585267200-1585353599@destinyschoolofthearts.com
SUMMARY:NO SCHOOL (Teacher Work Day) Preschool Parent/Teacher Conferences
DESCRIPTION:
URL:https://destinyschoolofthearts.com/calendar/no-school-teacher-work-day-preschool-parent-teacher-conferences/
END:VEVENT
BEGIN:VEVENT
DTSTART;VALUE=DATE:20200326
DTEND;VALUE=DATE:20200327
DTSTAMP:20260425T140401
CREATED:20191209T180707Z
LAST-MODIFIED:20200706T042519Z
UID:2059-1585180800-1585267199@destinyschoolofthearts.com
SUMMARY:End 3rd Quarter Grading Period (Elementary)
DESCRIPTION:
URL:https://destinyschoolofthearts.com/calendar/end-3rd-quarter-grading-period-elementary/
END:VEVENT
BEGIN:VEVENT
DTSTART;VALUE=DATE:20200325
DTEND;VALUE=DATE:20200327
DTSTAMP:20260425T140401
CREATED:20191209T180644Z
LAST-MODIFIED:20200706T043051Z
UID:2057-1585094400-1585267199@destinyschoolofthearts.com
SUMMARY:Sports Day – Dress in Favorite Sports Team Attire
DESCRIPTION:
URL:https://destinyschoolofthearts.com/calendar/sports-day-dress-in-favorite-sports-team-attire/
END:VEVENT
BEGIN:VEVENT
DTSTART;VALUE=DATE:20200318
DTEND;VALUE=DATE:20200319
DTSTAMP:20260425T140401
CREATED:20191209T180617Z
LAST-MODIFIED:20200706T040909Z
UID:2055-1584489600-1584575999@destinyschoolofthearts.com
SUMMARY:Spirit Night
DESCRIPTION:
URL:https://destinyschoolofthearts.com/calendar/spirit-night-2/
END:VEVENT
BEGIN:VEVENT
DTSTART;TZID=UTC:20200306T173000
DTEND;TZID=UTC:20200306T190000
DTSTAMP:20260425T140401
CREATED:20191209T180527Z
LAST-MODIFIED:20200706T041844Z
UID:2050-1583515800-1583521200@destinyschoolofthearts.com
SUMMARY:Family Bingo Night at Destiny Church
DESCRIPTION:
URL:https://destinyschoolofthearts.com/calendar/family-bingo-night-at-destiny-church/
END:VEVENT
BEGIN:VEVENT
DTSTART;TZID=UTC:20200221T091500
DTEND;TZID=UTC:20200221T113000
DTSTAMP:20260425T140401
CREATED:20191209T180456Z
LAST-MODIFIED:20200706T041520Z
UID:2051-1582276500-1582284600@destinyschoolofthearts.com
SUMMARY:Schoolwide Assembly
DESCRIPTION:
URL:https://destinyschoolofthearts.com/calendar/schoolwide-assembly-2/
END:VEVENT
BEGIN:VEVENT
DTSTART;VALUE=DATE:20200217
DTEND;VALUE=DATE:20200218
DTSTAMP:20260425T140401
CREATED:20191209T180342Z
LAST-MODIFIED:20200706T041509Z
UID:2048-1581897600-1581983999@destinyschoolofthearts.com
SUMMARY:NO SCHOOL (President’s Day)
DESCRIPTION:
URL:https://destinyschoolofthearts.com/calendar/no-school-presidents-day-2/
END:VEVENT
BEGIN:VEVENT
DTSTART;VALUE=DATE:20200215
DTEND;VALUE=DATE:20200216
DTSTAMP:20260425T140401
CREATED:20191209T180303Z
LAST-MODIFIED:20200706T041214Z
UID:2046-1581724800-1581811199@destinyschoolofthearts.com
SUMMARY:Valentine’s Day Dance
DESCRIPTION:
URL:https://destinyschoolofthearts.com/calendar/valentines-day-dance/
END:VEVENT
BEGIN:VEVENT
DTSTART;VALUE=DATE:20200213
DTEND;VALUE=DATE:20200215
DTSTAMP:20260425T140401
CREATED:20191209T180016Z
LAST-MODIFIED:20200706T041811Z
UID:2044-1581552000-1581724799@destinyschoolofthearts.com
SUMMARY:Class Parties / Red & Pink Shirt Days
DESCRIPTION:
URL:https://destinyschoolofthearts.com/calendar/class-parties-red-pink-shirt-days-2/
END:VEVENT
BEGIN:VEVENT
DTSTART;VALUE=DATE:20200203
DTEND;VALUE=DATE:20200229
DTSTAMP:20260425T140401
CREATED:20191209T175921Z
LAST-MODIFIED:20200706T041821Z
UID:2039-1580688000-1582934399@destinyschoolofthearts.com
SUMMARY:Love Thy Neighbor Food Drive
DESCRIPTION:
URL:https://destinyschoolofthearts.com/calendar/love-thy-neighbor-food-drive/
END:VEVENT
BEGIN:VEVENT
DTSTART;VALUE=DATE:20200129
DTEND;VALUE=DATE:20200201
DTSTAMP:20260425T140401
CREATED:20191209T175804Z
LAST-MODIFIED:20200706T041056Z
UID:2041-1580256000-1580515199@destinyschoolofthearts.com
SUMMARY:Preschool Conferences
DESCRIPTION:
URL:https://destinyschoolofthearts.com/calendar/preschool-conferences/
END:VEVENT
BEGIN:VEVENT
DTSTART;VALUE=DATE:20200127
DTEND;VALUE=DATE:20200129
DTSTAMP:20260425T140401
CREATED:20191209T175615Z
LAST-MODIFIED:20200706T041651Z
UID:2038-1580083200-1580255999@destinyschoolofthearts.com
SUMMARY:Elementary Conferences
DESCRIPTION:
URL:https://destinyschoolofthearts.com/calendar/elementary-conferences-2/
END:VEVENT
BEGIN:VEVENT
DTSTART;TZID=UTC:20200123T163000
DTEND;TZID=UTC:20200123T180000
DTSTAMP:20260425T140401
CREATED:20191209T175519Z
LAST-MODIFIED:20200706T042004Z
UID:2035-1579797000-1579802400@destinyschoolofthearts.com
SUMMARY:Spirit Night at Atomic Trampoline
DESCRIPTION:
URL:https://destinyschoolofthearts.com/calendar/spirit-night-at-atomic-trampoline/
END:VEVENT
BEGIN:VEVENT
DTSTART;VALUE=DATE:20200121
DTEND;VALUE=DATE:20200122
DTSTAMP:20260425T140401
CREATED:20191209T175414Z
LAST-MODIFIED:20200706T041831Z
UID:2033-1579564800-1579651199@destinyschoolofthearts.com
SUMMARY:NO SCHOOL (Teacher Work Day)
DESCRIPTION:
URL:https://destinyschoolofthearts.com/calendar/no-school-teacher-work-day-4/
END:VEVENT
BEGIN:VEVENT
DTSTART;VALUE=DATE:20200120
DTEND;VALUE=DATE:20200121
DTSTAMP:20260425T140401
CREATED:20191209T175318Z
LAST-MODIFIED:20200706T042053Z
UID:2031-1579478400-1579564799@destinyschoolofthearts.com
SUMMARY:NO SCHOOL  (Martin Luther King Jr. Day)
DESCRIPTION:
URL:https://destinyschoolofthearts.com/calendar/no-school-martin-luther-king-jr-day/
END:VEVENT
BEGIN:VEVENT
DTSTART;VALUE=DATE:20200117
DTEND;VALUE=DATE:20200118
DTSTAMP:20260425T140401
CREATED:20191209T175239Z
LAST-MODIFIED:20200706T042836Z
UID:2029-1579219200-1579305599@destinyschoolofthearts.com
SUMMARY:End of 2nd Quarter Grading Period (Elementary)
DESCRIPTION:
URL:https://destinyschoolofthearts.com/calendar/end-of-2nd-quarter-grading-period-elementary-2/
END:VEVENT
BEGIN:VEVENT
DTSTART;VALUE=DATE:20200107
DTEND;VALUE=DATE:20200108
DTSTAMP:20260425T140401
CREATED:20191209T175121Z
LAST-MODIFIED:20200706T042059Z
UID:2027-1578355200-1578441599@destinyschoolofthearts.com
SUMMARY:2020-2021 Registration Opens for Current Students/ Siblings
DESCRIPTION:
URL:https://destinyschoolofthearts.com/calendar/2020-2021-registration-opens-for-current-students-siblings/
END:VEVENT
BEGIN:VEVENT
DTSTART;VALUE=DATE:20200106
DTEND;VALUE=DATE:20200107
DTSTAMP:20260425T140401
CREATED:20191209T174939Z
LAST-MODIFIED:20200706T040921Z
UID:2025-1578268800-1578355199@destinyschoolofthearts.com
SUMMARY:Classes Resume
DESCRIPTION:
URL:https://destinyschoolofthearts.com/calendar/classes-resume-2/
END:VEVENT
BEGIN:VEVENT
DTSTART;VALUE=DATE:20191228
DTEND;VALUE=DATE:20191229
DTSTAMP:20260425T140401
CREATED:20191010T021923Z
LAST-MODIFIED:20200706T041217Z
UID:2017-1577491200-1577577599@destinyschoolofthearts.com
SUMMARY:Parent Christmas Party
DESCRIPTION:
URL:https://destinyschoolofthearts.com/calendar/parent-christmas-party-2/
END:VEVENT
BEGIN:VEVENT
DTSTART;VALUE=DATE:20191223
DTEND;VALUE=DATE:20200104
DTSTAMP:20260425T140401
CREATED:20191010T022044Z
LAST-MODIFIED:20200706T041554Z
UID:2019-1577059200-1578095999@destinyschoolofthearts.com
SUMMARY:NO SCHOOL (Christmas Break)
DESCRIPTION:
URL:https://destinyschoolofthearts.com/calendar/no-school-christmas-break-2/
END:VEVENT
BEGIN:VEVENT
DTSTART;VALUE=DATE:20191219
DTEND;VALUE=DATE:20191221
DTSTAMP:20260425T140401
CREATED:20191010T021701Z
LAST-MODIFIED:20200706T041640Z
UID:2014-1576713600-1576886399@destinyschoolofthearts.com
SUMMARY:Class Parties/ PJ Day
DESCRIPTION:
URL:https://destinyschoolofthearts.com/calendar/parent-christmas-party/
END:VEVENT
BEGIN:VEVENT
DTSTART;VALUE=DATE:20191215
DTEND;VALUE=DATE:20191216
DTSTAMP:20260425T140401
CREATED:20191010T021511Z
LAST-MODIFIED:20200706T042056Z
UID:2010-1576368000-1576454399@destinyschoolofthearts.com
SUMMARY:Christmas Performance at Destiny Church (Pre-K - 4th grade)
DESCRIPTION:
URL:https://destinyschoolofthearts.com/calendar/christmas-performance-at-destiny-church-pre-k-4th-grade/
END:VEVENT
BEGIN:VEVENT
DTSTART;VALUE=DATE:20191214
DTEND;VALUE=DATE:20191215
DTSTAMP:20260425T140401
CREATED:20191010T021359Z
LAST-MODIFIED:20200706T040825Z
UID:2007-1576281600-1576367999@destinyschoolofthearts.com
SUMMARY:Christmas Parade
DESCRIPTION:
URL:https://destinyschoolofthearts.com/calendar/christmas-parade/
END:VEVENT
BEGIN:VEVENT
DTSTART;VALUE=DATE:20191212
DTEND;VALUE=DATE:20191214
DTSTAMP:20260425T140401
CREATED:20191010T021250Z
LAST-MODIFIED:20200706T042932Z
UID:2005-1576108800-1576281599@destinyschoolofthearts.com
SUMMARY:Class Demonstrations - 2's and 3's Preschool Class
DESCRIPTION:
URL:https://destinyschoolofthearts.com/calendar/class-demonstrations-2s-and-3s-preschool-class/
END:VEVENT
BEGIN:VEVENT
DTSTART;VALUE=DATE:20191127
DTEND;VALUE=DATE:20191130
DTSTAMP:20260425T140401
CREATED:20191010T021109Z
LAST-MODIFIED:20200706T041736Z
UID:2003-1574812800-1575071999@destinyschoolofthearts.com
SUMMARY:NO SCHOOL (Thanksgiving Holiday)
DESCRIPTION:
URL:https://destinyschoolofthearts.com/calendar/no-school-thanksgiving-holiday/
END:VEVENT
BEGIN:VEVENT
DTSTART;VALUE=DATE:20191126
DTEND;VALUE=DATE:20191127
DTSTAMP:20260425T140401
CREATED:20191010T020903Z
LAST-MODIFIED:20200706T041853Z
UID:2001-1574726400-1574812799@destinyschoolofthearts.com
SUMMARY:Elementary Dismisses at Noon
DESCRIPTION:
URL:https://destinyschoolofthearts.com/calendar/elementary-dismisses-at-noon-2/
END:VEVENT
END:VCALENDAR